BEGIN:VCALENDAR
VERSION:2.0
PRODID:-//STUDIO KANKEI - ECPv6.15.13//NONSGML v1.0//EN
CALSCALE:GREGORIAN
METHOD:PUBLISH
X-WR-CALNAME:STUDIO KANKEI
X-ORIGINAL-URL:https://studiokankei.com
X-WR-CALDESC:Eventos para STUDIO KANKEI
REFRESH-INTERVAL;VALUE=DURATION:PT1H
X-Robots-Tag:noindex
X-PUBLISHED-TTL:PT1H
BEGIN:VTIMEZONE
TZID:Atlantic/Canary
BEGIN:DAYLIGHT
TZOFFSETFROM:+0000
TZOFFSETTO:+0100
TZNAME:WEST
DTSTART:20210328T010000
END:DAYLIGHT
BEGIN:STANDARD
TZOFFSETFROM:+0100
TZOFFSETTO:+0000
TZNAME:WET
DTSTART:20211031T010000
END:STANDARD
BEGIN:DAYLIGHT
TZOFFSETFROM:+0000
TZOFFSETTO:+0100
TZNAME:WEST
DTSTART:20220327T010000
END:DAYLIGHT
BEGIN:STANDARD
TZOFFSETFROM:+0100
TZOFFSETTO:+0000
TZNAME:WET
DTSTART:20221030T010000
END:STANDARD
BEGIN:DAYLIGHT
TZOFFSETFROM:+0000
TZOFFSETTO:+0100
TZNAME:WEST
DTSTART:20230326T010000
END:DAYLIGHT
BEGIN:STANDARD
TZOFFSETFROM:+0100
TZOFFSETTO:+0000
TZNAME:WET
DTSTART:20231029T010000
END:STANDARD
END:VTIMEZONE
BEGIN:VTIMEZONE
TZID:UTC
BEGIN:STANDARD
TZOFFSETFROM:+0000
TZOFFSETTO:+0000
TZNAME:UTC
DTSTART:20210101T000000
END:STANDARD
END:VTIMEZONE
BEGIN:VTIMEZONE
TZID:Europe/Madrid
BEGIN:DAYLIGHT
TZOFFSETFROM:+0100
TZOFFSETTO:+0200
TZNAME:CEST
DTSTART:20210328T010000
END:DAYLIGHT
BEGIN:STANDARD
TZOFFSETFROM:+0200
TZOFFSETTO:+0100
TZNAME:CET
DTSTART:20211031T010000
END:STANDARD
BEGIN:DAYLIGHT
TZOFFSETFROM:+0100
TZOFFSETTO:+0200
TZNAME:CEST
DTSTART:20220327T010000
END:DAYLIGHT
BEGIN:STANDARD
TZOFFSETFROM:+0200
TZOFFSETTO:+0100
TZNAME:CET
DTSTART:20221030T010000
END:STANDARD
BEGIN:DAYLIGHT
TZOFFSETFROM:+0100
TZOFFSETTO:+0200
TZNAME:CEST
DTSTART:20230326T010000
END:DAYLIGHT
BEGIN:STANDARD
TZOFFSETFROM:+0200
TZOFFSETTO:+0100
TZNAME:CET
DTSTART:20231029T010000
END:STANDARD
BEGIN:DAYLIGHT
TZOFFSETFROM:+0100
TZOFFSETTO:+0200
TZNAME:CEST
DTSTART:20240331T010000
END:DAYLIGHT
BEGIN:STANDARD
TZOFFSETFROM:+0200
TZOFFSETTO:+0100
TZNAME:CET
DTSTART:20241027T010000
END:STANDARD
BEGIN:DAYLIGHT
TZOFFSETFROM:+0100
TZOFFSETTO:+0200
TZNAME:CEST
DTSTART:20250330T010000
END:DAYLIGHT
BEGIN:STANDARD
TZOFFSETFROM:+0200
TZOFFSETTO:+0100
TZNAME:CET
DTSTART:20251026T010000
END:STANDARD
BEGIN:DAYLIGHT
TZOFFSETFROM:+0100
TZOFFSETTO:+0200
TZNAME:CEST
DTSTART:20260329T010000
END:DAYLIGHT
BEGIN:STANDARD
TZOFFSETFROM:+0200
TZOFFSETTO:+0100
TZNAME:CET
DTSTART:20261025T010000
END:STANDARD
END:VTIMEZONE
BEGIN:VEVENT
DTSTART;TZID=Atlantic/Canary:20220710T200000
DTEND;TZID=Atlantic/Canary:20220710T213000
DTSTAMP:20260420T014541
CREATED:20220613T173325Z
LAST-MODIFIED:20220704T154641Z
UID:10721-1657483200-1657488600@studiokankei.com
SUMMARY:Feria del libro de Cádiz
DESCRIPTION:MASTERCLASS: Cómo crear manga en occidente. \nEl acto tendrá lugar en la sala Carlos Álvarez
URL:https://studiokankei.com/evento/feria-del-libro-de-cadiz/
LOCATION:Baluarte de la Candelaria\, Alameda Marqués de Comillas\, s/n\, Cádiz\, España
ATTACH;FMTTYPE=image/webp:https://studiokankei.com/wp-content/uploads/2022/06/cabecera_FLC2022_1080x300px.jpeg
END:VEVENT
BEGIN:VEVENT
DTSTART;TZID=UTC:20220808T080000
DTEND;TZID=UTC:20220814T170000
DTSTAMP:20260420T014541
CREATED:20220729T062904Z
LAST-MODIFIED:20220812T081349Z
UID:10933-1659945600-1660496400@studiokankei.com
SUMMARY:Viñetas desde o Atlántico 2022
DESCRIPTION:A continuación os detallamos las diferentes actividades que realizaremos durante el Viñetas desde o Atlántico: \n  \nExposición de páginas originales:\nDel 8 al 14 de agosto \nSALA DE EXPOSICIONES PALEXCO\nMuelle de Transatlánticos\, s/n – 15003 A Coruña \nHorarios exposiciones\n12:00 a 14:00h. / 18:00 a 22:00h. \n  \nCharla:\nMiércoles 10 de 18:15h. – 19:15h. \nKIOSCO ALFONSO\nXardins de Méndez Núñez\, 3 – 15003 A Coruña \nPosibilidad de verla online en: https://www.vinetasdesdeoatlantico.com/charlas/ \n  \nFirmas:\nViernes 12 de 18:00h. a 20:00h. \nSábado 13 de 12:00h. a 13:30h. \nEn la carpa Viñetas na Rúa da BD
URL:https://studiokankei.com/evento/vinetas-desde-o-atlantico-2022/
LOCATION:Viñetas desde o Atlantico\, Kiosko Alfonso\, A coruña\, Galicia\, 15003\, España
ATTACH;FMTTYPE=image/jpeg:https://studiokankei.com/wp-content/uploads/2022/07/logo-vinetas-del-Atlantico.jpeg
END:VEVENT
BEGIN:VEVENT
DTSTART;VALUE=DATE:20221117
DTEND;VALUE=DATE:20221121
DTSTAMP:20260420T014541
CREATED:20220613T181821Z
LAST-MODIFIED:20221109T090228Z
UID:10729-1668643200-1668988799@studiokankei.com
SUMMARY:Santa Cruz Cómic 2022
DESCRIPTION:CHARLA: \n\nDEBATE en Sala L: Manga con aroma español\n\nHORARIO FIRMAS (https://santacruzcomic.es/firmas/): \n\nSábado 19: \n\n11:30h. – 13:00h. \n19:00h. – 20:30h. \nConfirmada EXPOSICIÓN en el evento. \nhttps://santacruzcomic.es/fidel-de-tovar-y-daniel-bermudez-confirman-su-asistencia-a-la-nueva-edicion-presencial-de-santa-cruz-comic/
URL:https://studiokankei.com/evento/santa-cruz-comic-2022/
LOCATION:Centro de Arte la Recova\, Pl. Isla de la madera\, s/n\, Santa Cruz de Tenerife\, Tenerife\, 38003\, España
ATTACH;FMTTYPE=image/jpeg:https://studiokankei.com/wp-content/uploads/2022/06/Santacruz.jpg
END:VEVENT
BEGIN:VEVENT
DTSTART;VALUE=DATE:20221203
DTEND;VALUE=DATE:20221204
DTSTAMP:20260420T014541
CREATED:20221112T181651Z
LAST-MODIFIED:20221128T210458Z
UID:11168-1670025600-1670111999@studiokankei.com
SUMMARY:Manga Fest Sevilla 2022
DESCRIPTION:SÁBADO 3 \n11:00 – 12:00 – Firmas en el stand de Nostromo \n13:45 – 14:05 – Meeting en el escenario de invitados \n16:15 – 17:45 – Firmas en el stand de Nostromo \n 
URL:https://studiokankei.com/evento/manga-fest-2022/
LOCATION:Manga Fest Sevilla\, Avda. Alcalde Luis Uruñuela 1\, Sevilla\, 41020\, España
ATTACH;FMTTYPE=image/webp:https://studiokankei.com/wp-content/uploads/2022/11/logo_.jpg
END:VEVENT
BEGIN:VEVENT
DTSTART;VALUE=DATE:20221208
DTEND;VALUE=DATE:20221212
DTSTAMP:20260420T014541
CREATED:20220613T184731Z
LAST-MODIFIED:20221128T170938Z
UID:10736-1670457600-1670803199@studiokankei.com
SUMMARY:Manga Barcelona 2022
DESCRIPTION:Horarios públicos en la web del Manga Barcelona que iremos actualizando con todas las actividades en las que participemos. \nFIRMAS \n\nJUEVES 8 \n12:00 – 13:00 – PLANETA MANGA (Stand 6) \n15:00 – 16:00 – NORMA EDITORIAL (Stand 17) \n17:00 – 18:00 – PLANETA MANGA (Stand 6) \nVIERNES 9 \n10:30 – 11:30 – NORMA EDITORIAL (Stand 17) \n12:00 – 13:00 – PLANETA MANGA (Stand 6) \n17:00 – 18:30 – NORMA EDITORIAL (Stand 17) \n19:00 – 20:00 – ABACUS (Stand 34) \nSÁBADO 10  \n15:00 – 16:00 – NORMA EDITORIAL (Stand 17) \nDOMINGO 11 \n12:00 – 13:00 – FNAC (Stand 56) \n15:00 – 16:30 – NORMA EDITORIAL (Stand 17) \n  \nMASTERCLASS – Proceso de creación \n\nSÁBADO 10  \n16:30 – 18:00 – Espacio Manga Experience Joso (Stand 58-59) \n  \nEXPOSICIÓN \n\nPanel de autores dentro de la exposición “Manga KM 0” en la zona de actividades de la Escuela Joso.
URL:https://studiokankei.com/evento/manga-barcelona-2022/
LOCATION:Fira Barcelona Gran Via\, Av. Joan Carles I\, 64\, Barcelona\, L'Hospitalet de Llobregat\, 08908\, España
ATTACH;FMTTYPE=image/webp:https://studiokankei.com/wp-content/uploads/2022/06/manga-barcelona-28-l-x_75.webp
END:VEVENT
BEGIN:VEVENT
DTSTART;TZID=UTC:20230317T180000
DTEND;TZID=UTC:20230317T180000
DTSTAMP:20260420T014541
CREATED:20230303T144529Z
LAST-MODIFIED:20230308T192328Z
UID:11307-1679076000-1679076000@studiokankei.com
SUMMARY:Charla SER AUTOR DE MANGA EN OCCIDENTE y sesión de firmas.
DESCRIPTION:Este 17 de marzo será el primer día oficial del cómic gracias a que así se aprobó el 11 de julio de 2022 por el Consejo de Ministros y a propuesta del ministro de Cultura y Deporte. Algo tendremos que hacer\, ¿no?
URL:https://studiokankei.com/evento/mas-informacion-en-breve/
LOCATION:Abacus Mollet\, Rambla de Balmes\, 3\, Mollet del Vallès\, Barcelona\, 08100\, España
ATTACH;FMTTYPE=image/webp:https://studiokankei.com/wp-content/uploads/2023/03/Captura-de-pantalla-2023-03-08-a-las-21.21.39.webp
END:VEVENT
BEGIN:VEVENT
DTSTART;VALUE=DATE:20230423
DTEND;VALUE=DATE:20230424
DTSTAMP:20260420T014541
CREATED:20230303T144825Z
LAST-MODIFIED:20230424T063308Z
UID:11310-1682208000-1682294399@studiokankei.com
SUMMARY:Sant Jordi 2023
DESCRIPTION:Como es tradición. En Sant Jordi estaremos firmando en Barcelona. \nEn esta ocasión en el Stand de Norma Cómics de Passeig Sant Joan de 11:00 a 13:00. \nSi vienes a las firmas te podrás llevar una lámina exclusiva de Liquid Memories (hasta fin de existencias). \n   
URL:https://studiokankei.com/evento/sant-jordi-2023/
ATTACH;FMTTYPE=image/webp:https://studiokankei.com/wp-content/uploads/2023/03/LOGO_NORMA_COMICS_com_2015-e1682325179929.webp
END:VEVENT
BEGIN:VEVENT
DTSTART;VALUE=DATE:20230520
DTEND;VALUE=DATE:20230521
DTSTAMP:20260420T014541
CREATED:20230509T064008Z
LAST-MODIFIED:20230509T064247Z
UID:11329-1684540800-1684627199@studiokankei.com
SUMMARY:Festimanga Masnou
DESCRIPTION:Pendiente de confirmar horario y actividad.
URL:https://studiokankei.com/evento/festimanga-masnou/
LOCATION:Espai Jove de Ca n’Humet\, Carrer Fontanills\, 77\, Masnou\, Barcelona\, 08320\, España
ATTACH;FMTTYPE=image/jpeg:https://studiokankei.com/wp-content/uploads/2023/05/festimanga.jpg
END:VEVENT
BEGIN:VEVENT
DTSTART;VALUE=DATE:20231117
DTEND;VALUE=DATE:20231120
DTSTAMP:20260420T014541
CREATED:20231108T160945Z
LAST-MODIFIED:20231108T202042Z
UID:12310-1700179200-1700438399@studiokankei.com
SUMMARY:Splash 2023
DESCRIPTION:FIRMAS en STAND de Norma Editorial: \nSábado 18  \nDe 12:00 a 13:00h. \nDe 17:00 a 18:00h. \nDomingo 19  \nDe 13:00 a 14:00h.
URL:https://studiokankei.com/evento/splash-2023/
LOCATION:Casal Jove Port de Sagunt\, C/ Vent de Marinada s/n\, Port de Sagunt\, Valencia\, 46520\, España
ATTACH;FMTTYPE=image/jpeg:https://studiokankei.com/wp-content/uploads/2023/11/Splash2023-e1699474834779.jpg
END:VEVENT
BEGIN:VEVENT
DTSTART;VALUE=DATE:20231207
DTEND;VALUE=DATE:20231211
DTSTAMP:20260420T014541
CREATED:20231108T202617Z
LAST-MODIFIED:20231129T131104Z
UID:12439-1701907200-1702252799@studiokankei.com
SUMMARY:Manga Barcelona 2023
DESCRIPTION:Viernes 8/12 \n15:00 – 16:00 – Stand Norma Editorial \nSábado 9/12 \n15:30 – 17:00 – Stand Norma Editorial \nDomingo 10/12 \n13:00 – 14:30 – Stand Norma Editorial
URL:https://studiokankei.com/evento/manga-barcelona-2023/
LOCATION:Fira Barcelona Gran Via\, Av. Joan Carles I\, 64\, Barcelona\, L'Hospitalet de Llobregat\, 08908\, España
ATTACH;FMTTYPE=image/webp:https://studiokankei.com/wp-content/uploads/2023/11/manga-barcelona-29-l-x_75-white.webp
END:VEVENT
BEGIN:VEVENT
DTSTART;VALUE=DATE:20240301
DTEND;VALUE=DATE:20240304
DTSTAMP:20260420T014541
CREATED:20240220T182814Z
LAST-MODIFIED:20240220T183053Z
UID:12468-1709251200-1709510399@studiokankei.com
SUMMARY:Salón del Cómic de Valencia
DESCRIPTION:
URL:https://studiokankei.com/evento/salon-del-comic-de-valencia/
LOCATION:Salon Comic Valencia\, Avenida de les fires\, valencia\, Valencia\, 46035
ATTACH;FMTTYPE=image/jpeg:https://studiokankei.com/wp-content/uploads/2024/02/cropped-cropped-LogoSCV_mas-fechas_-e1708453804451.jpg
END:VEVENT
BEGIN:VEVENT
DTSTART;TZID=Europe/Madrid:20241018T180000
DTEND;TZID=Europe/Madrid:20241018T190000
DTSTAMP:20260420T014541
CREATED:20241009T114422Z
LAST-MODIFIED:20241009T114422Z
UID:12575-1729274400-1729278000@studiokankei.com
SUMMARY:Masterclass de guion
DESCRIPTION:
URL:https://studiokankei.com/evento/masterclass-de-guion/
LOCATION:Edificio del Grupo San Valero\, Pl. de la Sta. Cruz\, Zaragoza\, Zaragoza\, Spain
END:VEVENT
BEGIN:VEVENT
DTSTART;TZID=Europe/Madrid:20241114T183000
DTEND;TZID=Europe/Madrid:20241114T193000
DTSTAMP:20260420T014541
CREATED:20241107T190515Z
LAST-MODIFIED:20241107T190954Z
UID:12587-1731609000-1731612600@studiokankei.com
SUMMARY:Presentación y firmas Perfeddion
DESCRIPTION:
URL:https://studiokankei.com/evento/presentacion-perfeddion/
LOCATION:Norma Cómics\, Passeig Sant Joan 9\, Barcelona\, Barcelona\, 08010\, Spain
ATTACH;FMTTYPE=image/webp:https://studiokankei.com/wp-content/uploads/2024/11/logo-norma-comics.webp
END:VEVENT
BEGIN:VEVENT
DTSTART;VALUE=DATE:20241205
DTEND;VALUE=DATE:20241209
DTSTAMP:20260420T014541
CREATED:20241009T115228Z
LAST-MODIFIED:20241107T190813Z
UID:12583-1733356800-1733702399@studiokankei.com
SUMMARY:Sesiones de firma en Manga Barcelona
DESCRIPTION:Más información próximamento
URL:https://studiokankei.com/evento/sesiones-de-firma-en-manga-barcelona/
LOCATION:Manga Barcelona\, Carrer de la Botànica\, 64\, Barcelona\, Barcelona\, 08908\, Spain
ATTACH;FMTTYPE=image/webp:https://studiokankei.com/wp-content/uploads/2024/10/manga-barcelona-30-l-x_75-white.webp
END:VEVENT
BEGIN:VEVENT
DTSTART;TZID=Europe/Madrid:20250321T180000
DTEND;TZID=Europe/Madrid:20250321T193000
DTSTAMP:20260420T014541
CREATED:20250318T174858Z
LAST-MODIFIED:20250318T175004Z
UID:12614-1742580000-1742585400@studiokankei.com
SUMMARY:Taller infantil de manga en la biblioteca Marta Mata
DESCRIPTION:
URL:https://studiokankei.com/evento/taller-infantil-de-manga-en-la-biblioteca-marta-mata/
LOCATION:Biblioteca Marta Mata\, Rubió i ors\,184\, Cornellà del Llobregat\, Barcelona\, 08940\, Spain
ATTACH;FMTTYPE=image/svg+xml:https://studiokankei.com/wp-content/uploads/2025/03/logo-diputacio.svg
END:VEVENT
BEGIN:VEVENT
DTSTART;VALUE=DATE:20250423
DTEND;VALUE=DATE:20250424
DTSTAMP:20260420T014541
CREATED:20250318T175137Z
LAST-MODIFIED:20250318T175137Z
UID:12620-1745366400-1745452799@studiokankei.com
SUMMARY:Sant Jordi
DESCRIPTION:Próximamente publicaremos horarios.
URL:https://studiokankei.com/evento/sant-jordi/
ATTACH;FMTTYPE=image/webp:https://studiokankei.com/wp-content/uploads/2024/11/logo-norma-comics.webp
END:VEVENT
BEGIN:VEVENT
DTSTART;VALUE=DATE:20250426
DTEND;VALUE=DATE:20250427
DTSTAMP:20260420T014541
CREATED:20250318T175650Z
LAST-MODIFIED:20250318T175650Z
UID:12622-1745625600-1745711999@studiokankei.com
SUMMARY:Sakura Matsuri Sabadell
DESCRIPTION:Próximamente publicaremos actividades y horarios.
URL:https://studiokankei.com/evento/sakura-matsuri-sabadell/
ATTACH;FMTTYPE=image/webp:https://studiokankei.com/wp-content/uploads/2025/03/Sakura-Matsuri.webp
END:VEVENT
END:VCALENDAR