BEGIN:VCALENDAR
VERSION:2.0
PRODID:-//STUDIO KANKEI - ECPv6.15.13//NONSGML v1.0//EN
CALSCALE:GREGORIAN
METHOD:PUBLISH
X-WR-CALNAME:STUDIO KANKEI
X-ORIGINAL-URL:https://studiokankei.com
X-WR-CALDESC:Eventos para STUDIO KANKEI
REFRESH-INTERVAL;VALUE=DURATION:PT1H
X-Robots-Tag:noindex
X-PUBLISHED-TTL:PT1H
BEGIN:VTIMEZONE
TZID:Europe/Madrid
BEGIN:DAYLIGHT
TZOFFSETFROM:+0100
TZOFFSETTO:+0200
TZNAME:CEST
DTSTART:20210328T010000
END:DAYLIGHT
BEGIN:STANDARD
TZOFFSETFROM:+0200
TZOFFSETTO:+0100
TZNAME:CET
DTSTART:20211031T010000
END:STANDARD
BEGIN:DAYLIGHT
TZOFFSETFROM:+0100
TZOFFSETTO:+0200
TZNAME:CEST
DTSTART:20220327T010000
END:DAYLIGHT
BEGIN:STANDARD
TZOFFSETFROM:+0200
TZOFFSETTO:+0100
TZNAME:CET
DTSTART:20221030T010000
END:STANDARD
BEGIN:DAYLIGHT
TZOFFSETFROM:+0100
TZOFFSETTO:+0200
TZNAME:CEST
DTSTART:20230326T010000
END:DAYLIGHT
BEGIN:STANDARD
TZOFFSETFROM:+0200
TZOFFSETTO:+0100
TZNAME:CET
DTSTART:20231029T010000
END:STANDARD
END:VTIMEZONE
BEGIN:VTIMEZONE
TZID:UTC
BEGIN:STANDARD
TZOFFSETFROM:+0000
TZOFFSETTO:+0000
TZNAME:UTC
DTSTART:20210101T000000
END:STANDARD
END:VTIMEZONE
BEGIN:VTIMEZONE
TZID:Atlantic/Canary
BEGIN:DAYLIGHT
TZOFFSETFROM:+0000
TZOFFSETTO:+0100
TZNAME:WEST
DTSTART:20210328T010000
END:DAYLIGHT
BEGIN:STANDARD
TZOFFSETFROM:+0100
TZOFFSETTO:+0000
TZNAME:WET
DTSTART:20211031T010000
END:STANDARD
BEGIN:DAYLIGHT
TZOFFSETFROM:+0000
TZOFFSETTO:+0100
TZNAME:WEST
DTSTART:20220327T010000
END:DAYLIGHT
BEGIN:STANDARD
TZOFFSETFROM:+0100
TZOFFSETTO:+0000
TZNAME:WET
DTSTART:20221030T010000
END:STANDARD
BEGIN:DAYLIGHT
TZOFFSETFROM:+0000
TZOFFSETTO:+0100
TZNAME:WEST
DTSTART:20230326T010000
END:DAYLIGHT
BEGIN:STANDARD
TZOFFSETFROM:+0100
TZOFFSETTO:+0000
TZNAME:WET
DTSTART:20231029T010000
END:STANDARD
END:VTIMEZONE
BEGIN:VEVENT
DTSTART;VALUE=DATE:20221208
DTEND;VALUE=DATE:20221212
DTSTAMP:20260421T193447
CREATED:20220613T184731Z
LAST-MODIFIED:20221128T170938Z
UID:10736-1670457600-1670803199@studiokankei.com
SUMMARY:Manga Barcelona 2022
DESCRIPTION:Horarios públicos en la web del Manga Barcelona que iremos actualizando con todas las actividades en las que participemos. \nFIRMAS \n\nJUEVES 8 \n12:00 – 13:00 – PLANETA MANGA (Stand 6) \n15:00 – 16:00 – NORMA EDITORIAL (Stand 17) \n17:00 – 18:00 – PLANETA MANGA (Stand 6) \nVIERNES 9 \n10:30 – 11:30 – NORMA EDITORIAL (Stand 17) \n12:00 – 13:00 – PLANETA MANGA (Stand 6) \n17:00 – 18:30 – NORMA EDITORIAL (Stand 17) \n19:00 – 20:00 – ABACUS (Stand 34) \nSÁBADO 10  \n15:00 – 16:00 – NORMA EDITORIAL (Stand 17) \nDOMINGO 11 \n12:00 – 13:00 – FNAC (Stand 56) \n15:00 – 16:30 – NORMA EDITORIAL (Stand 17) \n  \nMASTERCLASS – Proceso de creación \n\nSÁBADO 10  \n16:30 – 18:00 – Espacio Manga Experience Joso (Stand 58-59) \n  \nEXPOSICIÓN \n\nPanel de autores dentro de la exposición “Manga KM 0” en la zona de actividades de la Escuela Joso.
URL:https://studiokankei.com/evento/manga-barcelona-2022/
LOCATION:Fira Barcelona Gran Via\, Av. Joan Carles I\, 64\, Barcelona\, L'Hospitalet de Llobregat\, 08908\, España
ATTACH;FMTTYPE=image/webp:https://studiokankei.com/wp-content/uploads/2022/06/manga-barcelona-28-l-x_75.webp
END:VEVENT
BEGIN:VEVENT
DTSTART;VALUE=DATE:20221203
DTEND;VALUE=DATE:20221204
DTSTAMP:20260421T193447
CREATED:20221112T181651Z
LAST-MODIFIED:20221128T210458Z
UID:11168-1670025600-1670111999@studiokankei.com
SUMMARY:Manga Fest Sevilla 2022
DESCRIPTION:SÁBADO 3 \n11:00 – 12:00 – Firmas en el stand de Nostromo \n13:45 – 14:05 – Meeting en el escenario de invitados \n16:15 – 17:45 – Firmas en el stand de Nostromo \n 
URL:https://studiokankei.com/evento/manga-fest-2022/
LOCATION:Manga Fest Sevilla\, Avda. Alcalde Luis Uruñuela 1\, Sevilla\, 41020\, España
ATTACH;FMTTYPE=image/webp:https://studiokankei.com/wp-content/uploads/2022/11/logo_.jpg
END:VEVENT
BEGIN:VEVENT
DTSTART;VALUE=DATE:20221117
DTEND;VALUE=DATE:20221121
DTSTAMP:20260421T193447
CREATED:20220613T181821Z
LAST-MODIFIED:20221109T090228Z
UID:10729-1668643200-1668988799@studiokankei.com
SUMMARY:Santa Cruz Cómic 2022
DESCRIPTION:CHARLA: \n\nDEBATE en Sala L: Manga con aroma español\n\nHORARIO FIRMAS (https://santacruzcomic.es/firmas/): \n\nSábado 19: \n\n11:30h. – 13:00h. \n19:00h. – 20:30h. \nConfirmada EXPOSICIÓN en el evento. \n\nFidel de Tovar y Daniel Bermúdez confirman su asistencia a la nueva edición presencial de Santa Cruz Cómic
URL:https://studiokankei.com/evento/santa-cruz-comic-2022/
LOCATION:Centro de Arte la Recova\, Pl. Isla de la madera\, s/n\, Santa Cruz de Tenerife\, Tenerife\, 38003\, España
ATTACH;FMTTYPE=image/jpeg:https://studiokankei.com/wp-content/uploads/2022/06/Santacruz.jpg
END:VEVENT
BEGIN:VEVENT
DTSTART;TZID=UTC:20220808T080000
DTEND;TZID=UTC:20220814T170000
DTSTAMP:20260421T193447
CREATED:20220729T062904Z
LAST-MODIFIED:20220812T081349Z
UID:10933-1659945600-1660496400@studiokankei.com
SUMMARY:Viñetas desde o Atlántico 2022
DESCRIPTION:A continuación os detallamos las diferentes actividades que realizaremos durante el Viñetas desde o Atlántico: \n  \nExposición de páginas originales:\nDel 8 al 14 de agosto \nSALA DE EXPOSICIONES PALEXCO\nMuelle de Transatlánticos\, s/n – 15003 A Coruña \nHorarios exposiciones\n12:00 a 14:00h. / 18:00 a 22:00h. \n  \nCharla:\nMiércoles 10 de 18:15h. – 19:15h. \nKIOSCO ALFONSO\nXardins de Méndez Núñez\, 3 – 15003 A Coruña \nPosibilidad de verla online en: https://www.vinetasdesdeoatlantico.com/charlas/ \n  \nFirmas:\nViernes 12 de 18:00h. a 20:00h. \nSábado 13 de 12:00h. a 13:30h. \nEn la carpa Viñetas na Rúa da BD
URL:https://studiokankei.com/evento/vinetas-desde-o-atlantico-2022/
LOCATION:Viñetas desde o Atlantico\, Kiosko Alfonso\, A coruña\, Galicia\, 15003\, España
ATTACH;FMTTYPE=image/jpeg:https://studiokankei.com/wp-content/uploads/2022/07/logo-vinetas-del-Atlantico.jpeg
END:VEVENT
BEGIN:VEVENT
DTSTART;TZID=Atlantic/Canary:20220710T200000
DTEND;TZID=Atlantic/Canary:20220710T213000
DTSTAMP:20260421T193447
CREATED:20220613T173325Z
LAST-MODIFIED:20220704T154641Z
UID:10721-1657483200-1657488600@studiokankei.com
SUMMARY:Feria del libro de Cádiz
DESCRIPTION:MASTERCLASS: Cómo crear manga en occidente. \nEl acto tendrá lugar en la sala Carlos Álvarez
URL:https://studiokankei.com/evento/feria-del-libro-de-cadiz/
LOCATION:Baluarte de la Candelaria\, Alameda Marqués de Comillas\, s/n\, Cádiz\, España
ATTACH;FMTTYPE=image/webp:https://studiokankei.com/wp-content/uploads/2022/06/cabecera_FLC2022_1080x300px.jpeg
END:VEVENT
END:VCALENDAR